BEGIN:VCALENDAR
VERSION:2.0
PRODID:-//jEvents 2.0 for Joomla//EN
CALSCALE:GREGORIAN
METHOD:PUBLISH
BEGIN:VEVENT
UID:e67db7f7da13c2c0bdb2dfb89093c118
CATEGORIES:Veranstaltungen
CREATED:20190119T141152
SUMMARY:!! ABGESAGT !! Sankt Martin !! ABGESAGT !!
DESCRIPTION:
DTSTAMP:20260425T154602
DTSTART:20201111T170000
DTEND:20201111T210000
SEQUENCE:0
TRANSP:OPAQUE
END:VEVENT
END:VCALENDAR