BEGIN:VCALENDAR
VERSION:2.0
PRODID:-//jEvents 2.0 for Joomla//EN
CALSCALE:GREGORIAN
METHOD:PUBLISH
BEGIN:VEVENT
UID:ce5ffd643c2ec88bb32b8f120f5b7521
CATEGORIES:Veranstaltungen
CREATED:20190119T141330
SUMMARY:!! ABGESAGT !! Trimm Trap !! ABGESAGT !!
DESCRIPTION:
DTSTAMP:20260423T214231
DTSTART:20200524T090000
DTEND:20200524T150000
SEQUENCE:0
TRANSP:OPAQUE
END:VEVENT
END:VCALENDAR